BEGIN:VCALENDAR
VERSION:2.0
PRODID:-//CMPA - ECPv6.15.9//NONSGML v1.0//EN
CALSCALE:GREGORIAN
METHOD:PUBLISH
X-ORIGINAL-URL:https://cmpa.com.au
X-WR-CALDESC:Events for CMPA
REFRESH-INTERVAL;VALUE=DURATION:PT1H
X-Robots-Tag:noindex
X-PUBLISHED-TTL:PT1H
BEGIN:VTIMEZONE
TZID:UTC
BEGIN:STANDARD
TZOFFSETFROM:+0000
TZOFFSETTO:+0000
TZNAME:UTC
DTSTART:20250101T000000
END:STANDARD
END:VTIMEZONE
BEGIN:VEVENT
DTSTART;TZID=UTC:20260319T083000
DTEND;TZID=UTC:20260319T160000
DTSTAMP:20260423T031720
CREATED:20251013T214957Z
LAST-MODIFIED:20260225T222729Z
UID:10237-1773909000-1773936000@cmpa.com.au
SUMMARY:Traffic Interaction Workshop
DESCRIPTION:Join us for an interactive workshop which will help you with: \n\nIdentify and share best traffic interaction practices being utilised by members\nUnderstand what WorkSafe expects when inspecting traffic practices in quarries\nUtilise this information when reviewing the Traffic Management Guideline 2019\n\nIdentifying and controlling direct interactions is essential to ensuring a safe workplace. \nConsideration needs to be given to: \n\nRestricted access areas\nBlind spots/sight lines\nOperational exclusion zones\nTraffic Movements\nHold and Call up Points\nPedestrian routes and walkways\nLight vehicle parking\nPositive communications\n\nRSVP – Tuesday 3 March 2026 \n 
URL:https://cmpa.com.au/event/traffic-interaction-workshop/
LOCATION:Mantra\, 250 Cooper Street\, Epping\, Victoria\, 3076\, Australia
ATTACH;FMTTYPE=image/png:https://cmpa.com.au/app/uploads/2025/10/Traffic-Interaction-Workshop-scaled.png
ORGANIZER;CN="CMPA":MAILTO:enquiries@cmpa.com.au
END:VEVENT
END:VCALENDAR